BEGIN:VCALENDAR
VERSION:2.0
PRODID:-//Tukios.com/
BEGIN:VEVENT
UID:05ecb7dd-c2bc-4c0f-857a-049352a2f2f7@www.daviswagner.com
DTSTAMP:20260424T162235Z
DTSTART:20260428T150000Z
DTEND:20260428T170000Z
SUMMARY:Visitation
DESCRIPTION:
URL:https://www.daviswagner.com/obituaries/eleanor-russian
LOCATION:Davis & Wagner Funeral & Cremation Services 171 Delaware St  
	Woodbury NJ 08096
GEO:39.8394294;-75.1579318
END:VEVENT
END:VCALENDAR