BEGIN:VCALENDAR
VERSION:2.0
PRODID:-//Tukios.com/
BEGIN:VEVENT
UID:c5af2f9b-663a-42cc-aa6c-0bcc4fa8a1c0@www.daviswagner.com
DTSTAMP:20260424T162241Z
DTSTART:20260428T170000Z
DTEND:20260428T180000Z
SUMMARY:Funeral Service
DESCRIPTION:
URL:https://www.daviswagner.com/obituaries/eleanor-russian
LOCATION: 171 Delaware St  Woodbury NJ 08096
GEO:39.8394294;-75.1579318
END:VEVENT
END:VCALENDAR