BEGIN:VCALENDAR
VERSION:2.0
PRODID:-//Tukios.com/
BEGIN:VEVENT
UID:6c308bd2-4d9d-4f5d-bc60-32597dcd68e1@www.daviswagner.com
DTSTAMP:20260421T200729Z
DTSTART:20260427T130000Z
DTEND:20260427T160000Z
SUMMARY:Visitation
DESCRIPTION:
URL:https://www.daviswagner.com/obituaries/john-d-mcmichael
LOCATION:Davis & Wagner Funeral & Cremation Services 171 Delaware St  
	Woodbury NJ 08096
GEO:39.8394294;-75.1579318
END:VEVENT
END:VCALENDAR