BEGIN:VCALENDAR
VERSION:2.0
PRODID:-//Tukios.com/
BEGIN:VEVENT
UID:fb738ea6-81d7-4c6b-8de1-6053410272c0@www.daviswagner.com
DTSTAMP:20260421T200708Z
DTSTART:20260427T160000Z
DTEND:20260427T170000Z
SUMMARY:Memorial Service
DESCRIPTION:
URL:https://www.daviswagner.com/obituaries/john-d-mcmichael
LOCATION:Davis & Wagner Funeral & Cremation Services 171 Delaware St  
	Woodbury NJ 08096
GEO:39.8394294;-75.1579318
END:VEVENT
END:VCALENDAR